BEGIN:VCALENDAR
VERSION:2.0
PRODID:-//Trinity Methodist Church Lowestoft - ECPv6.15.20//NONSGML v1.0//EN
CALSCALE:GREGORIAN
METHOD:PUBLISH
X-WR-CALNAME:Trinity Methodist Church Lowestoft
X-ORIGINAL-URL:https://www.trinitymethodistlowestoft.uk
X-WR-CALDESC:Events for Trinity Methodist Church Lowestoft
REFRESH-INTERVAL;VALUE=DURATION:PT1H
X-Robots-Tag:noindex
X-PUBLISHED-TTL:PT1H
BEGIN:VTIMEZONE
TZID:Europe/London
BEGIN:DAYLIGHT
TZOFFSETFROM:+0000
TZOFFSETTO:+0100
TZNAME:BST
DTSTART:20240331T010000
END:DAYLIGHT
BEGIN:STANDARD
TZOFFSETFROM:+0100
TZOFFSETTO:+0000
TZNAME:GMT
DTSTART:20241027T010000
END:STANDARD
BEGIN:DAYLIGHT
TZOFFSETFROM:+0000
TZOFFSETTO:+0100
TZNAME:BST
DTSTART:20250330T010000
END:DAYLIGHT
BEGIN:STANDARD
TZOFFSETFROM:+0100
TZOFFSETTO:+0000
TZNAME:GMT
DTSTART:20251026T010000
END:STANDARD
BEGIN:DAYLIGHT
TZOFFSETFROM:+0000
TZOFFSETTO:+0100
TZNAME:BST
DTSTART:20260329T010000
END:DAYLIGHT
BEGIN:STANDARD
TZOFFSETFROM:+0100
TZOFFSETTO:+0000
TZNAME:GMT
DTSTART:20261025T010000
END:STANDARD
END:VTIMEZONE
BEGIN:VEVENT
DTSTART;TZID=Europe/London:20250907T104500
DTEND;TZID=Europe/London:20250907T114500
DTSTAMP:20260421T162023
CREATED:20250827T123110Z
LAST-MODIFIED:20250827T123110Z
UID:2101-1757241900-1757245500@www.trinitymethodistlowestoft.uk
SUMMARY:Sunday Morning Worship and Church Anniversary with Holy Communion led by Rev. C. Sutcliffe
DESCRIPTION:
URL:https://www.trinitymethodistlowestoft.uk/church-event/sunday-morning-worship-and-church-anniversary-with-holy-communion-led-by-rev-c-sutcliffe/
LOCATION:Trinity Methodist Church
CATEGORIES:Sunday Services
END:VEVENT
BEGIN:VEVENT
DTSTART;TZID=Europe/London:20250914T104500
DTEND;TZID=Europe/London:20250914T114500
DTSTAMP:20260421T162023
CREATED:20250827T123427Z
LAST-MODIFIED:20250827T123427Z
UID:2103-1757846700-1757850300@www.trinitymethodistlowestoft.uk
SUMMARY:Sunday Morning Worship and Harvest Festival led by Mrs. J.Warren
DESCRIPTION:Donations of goods for the Foodbank welcome
URL:https://www.trinitymethodistlowestoft.uk/church-event/sunday-morning-worship-and-harvest-festival-led-by-mrs-j-warren/
LOCATION:Trinity Methodist Church
CATEGORIES:Sunday Services
END:VEVENT
BEGIN:VEVENT
DTSTART;TZID=Europe/London:20250921T104500
DTEND;TZID=Europe/London:20250921T114500
DTSTAMP:20260421T162023
CREATED:20250827T123614Z
LAST-MODIFIED:20250827T123614Z
UID:2106-1758451500-1758455100@www.trinitymethodistlowestoft.uk
SUMMARY:Sunday Morning Worship led by Mrs. S. Groome
DESCRIPTION:
URL:https://www.trinitymethodistlowestoft.uk/church-event/sunday-morning-worship-led-by-mrs-s-groome-4/
LOCATION:Trinity Methodist Church
CATEGORIES:Sunday Services
END:VEVENT
BEGIN:VEVENT
DTSTART;TZID=Europe/London:20250928T104500
DTEND;TZID=Europe/London:20250928T114500
DTSTAMP:20260421T162023
CREATED:20250827T123755Z
LAST-MODIFIED:20250827T123755Z
UID:2108-1759056300-1759059900@www.trinitymethodistlowestoft.uk
SUMMARY:Sunday Morning Worship led by Mrs. L. Lawrance-Martin
DESCRIPTION:
URL:https://www.trinitymethodistlowestoft.uk/church-event/sunday-morning-worship-led-by-mrs-l-lawrance-martin-2/
LOCATION:Trinity Methodist Church
CATEGORIES:Sunday Services
END:VEVENT
END:VCALENDAR