BEGIN:VCALENDAR
VERSION:2.0
PRODID:-//Trinity Methodist Church Lowestoft - ECPv6.15.20//NONSGML v1.0//EN
CALSCALE:GREGORIAN
METHOD:PUBLISH
X-ORIGINAL-URL:https://www.trinitymethodistlowestoft.uk
X-WR-CALDESC:Events for Trinity Methodist Church Lowestoft
REFRESH-INTERVAL;VALUE=DURATION:PT1H
X-Robots-Tag:noindex
X-PUBLISHED-TTL:PT1H
BEGIN:VTIMEZONE
TZID:Europe/London
BEGIN:DAYLIGHT
TZOFFSETFROM:+0000
TZOFFSETTO:+0100
TZNAME:BST
DTSTART:20240331T010000
END:DAYLIGHT
BEGIN:STANDARD
TZOFFSETFROM:+0100
TZOFFSETTO:+0000
TZNAME:GMT
DTSTART:20241027T010000
END:STANDARD
BEGIN:DAYLIGHT
TZOFFSETFROM:+0000
TZOFFSETTO:+0100
TZNAME:BST
DTSTART:20250330T010000
END:DAYLIGHT
BEGIN:STANDARD
TZOFFSETFROM:+0100
TZOFFSETTO:+0000
TZNAME:GMT
DTSTART:20251026T010000
END:STANDARD
BEGIN:DAYLIGHT
TZOFFSETFROM:+0000
TZOFFSETTO:+0100
TZNAME:BST
DTSTART:20260329T010000
END:DAYLIGHT
BEGIN:STANDARD
TZOFFSETFROM:+0100
TZOFFSETTO:+0000
TZNAME:GMT
DTSTART:20261025T010000
END:STANDARD
END:VTIMEZONE
BEGIN:VEVENT
DTSTART;TZID=Europe/London:20250706T104500
DTEND;TZID=Europe/London:20250706T114500
DTSTAMP:20260421T183134
CREATED:20250519T080022Z
LAST-MODIFIED:20250520T120351Z
UID:2006-1751798700-1751802300@www.trinitymethodistlowestoft.uk
SUMMARY:Sunday Morning Worship led by Pastor Stephen Lau
DESCRIPTION:
URL:https://www.trinitymethodistlowestoft.uk/church-event/sunday-morning-worship-led-by-pastor-stephen/
LOCATION:Trinity Methodist Church
CATEGORIES:Sunday Services
END:VEVENT
BEGIN:VEVENT
DTSTART;TZID=Europe/London:20250713T104500
DTEND;TZID=Europe/London:20250713T114500
DTSTAMP:20260421T183134
CREATED:20250519T080214Z
LAST-MODIFIED:20250519T080214Z
UID:2008-1752403500-1752407100@www.trinitymethodistlowestoft.uk
SUMMARY:Sunday Morning Worship led by Mrs. S. Groome
DESCRIPTION:
URL:https://www.trinitymethodistlowestoft.uk/church-event/sunday-morning-worship-led-by-mrs-s-groome-2/
LOCATION:Trinity Methodist Church
CATEGORIES:Sunday Services
END:VEVENT
BEGIN:VEVENT
DTSTART;TZID=Europe/London:20250720T080000
DTEND;TZID=Europe/London:20250720T170000
DTSTAMP:20260421T183134
CREATED:20250519T080330Z
LAST-MODIFIED:20250519T080330Z
UID:2010-1752998400-1753030800@www.trinitymethodistlowestoft.uk
SUMMARY:Sunday Morning Worship with Holy Communion led by Rev. L. Richards
DESCRIPTION:
URL:https://www.trinitymethodistlowestoft.uk/church-event/sunday-morning-worship-with-holy-communion-led-by-rev-l-richards-2/
LOCATION:Trinity Methodist Church
CATEGORIES:Sunday Services
END:VEVENT
BEGIN:VEVENT
DTSTART;TZID=Europe/London:20250727T104500
DTEND;TZID=Europe/London:20250727T114500
DTSTAMP:20260421T183134
CREATED:20250519T080620Z
LAST-MODIFIED:20250519T080620Z
UID:2013-1753613100-1753616700@www.trinitymethodistlowestoft.uk
SUMMARY:Sunday Morning Worship at Corton Methodist Church led by Mrs. S. Groome
DESCRIPTION:
URL:https://www.trinitymethodistlowestoft.uk/church-event/sunday-morning-worship-at-corton-methodist-church-led-by-mrs-s-groome/
LOCATION:Corton Methodist Church
CATEGORIES:Sunday Services
END:VEVENT
END:VCALENDAR