BEGIN:VCALENDAR
VERSION:2.0
PRODID:-//Trinity Methodist Church Lowestoft - ECPv6.15.20//NONSGML v1.0//EN
CALSCALE:GREGORIAN
METHOD:PUBLISH
X-WR-CALNAME:Trinity Methodist Church Lowestoft
X-ORIGINAL-URL:https://www.trinitymethodistlowestoft.uk
X-WR-CALDESC:Events for Trinity Methodist Church Lowestoft
REFRESH-INTERVAL;VALUE=DURATION:PT1H
X-Robots-Tag:noindex
X-PUBLISHED-TTL:PT1H
BEGIN:VTIMEZONE
TZID:Europe/London
BEGIN:DAYLIGHT
TZOFFSETFROM:+0000
TZOFFSETTO:+0100
TZNAME:BST
DTSTART:20240331T010000
END:DAYLIGHT
BEGIN:STANDARD
TZOFFSETFROM:+0100
TZOFFSETTO:+0000
TZNAME:GMT
DTSTART:20241027T010000
END:STANDARD
BEGIN:DAYLIGHT
TZOFFSETFROM:+0000
TZOFFSETTO:+0100
TZNAME:BST
DTSTART:20250330T010000
END:DAYLIGHT
BEGIN:STANDARD
TZOFFSETFROM:+0100
TZOFFSETTO:+0000
TZNAME:GMT
DTSTART:20251026T010000
END:STANDARD
BEGIN:DAYLIGHT
TZOFFSETFROM:+0000
TZOFFSETTO:+0100
TZNAME:BST
DTSTART:20260329T010000
END:DAYLIGHT
BEGIN:STANDARD
TZOFFSETFROM:+0100
TZOFFSETTO:+0000
TZNAME:GMT
DTSTART:20261025T010000
END:STANDARD
END:VTIMEZONE
BEGIN:VEVENT
DTSTART;TZID=Europe/London:20250601T104500
DTEND;TZID=Europe/London:20250601T114500
DTSTAMP:20260421T194120
CREATED:20250519T074519Z
LAST-MODIFIED:20250519T074519Z
UID:1992-1748774700-1748778300@www.trinitymethodistlowestoft.uk
SUMMARY:Sunday Morning Worship led by Rev. L. Richards
DESCRIPTION:
URL:https://www.trinitymethodistlowestoft.uk/church-event/sunday-morning-worship-led-by-rev-l-richards-2/
LOCATION:Trinity Methodist Church
CATEGORIES:Sunday Services
END:VEVENT
BEGIN:VEVENT
DTSTART;TZID=Europe/London:20250608T104500
DTEND;TZID=Europe/London:20250608T114500
DTSTAMP:20260421T194120
CREATED:20250519T074809Z
LAST-MODIFIED:20250519T075758Z
UID:1994-1749379500-1749383100@www.trinitymethodistlowestoft.uk
SUMMARY:Sunday Morning Worship led by Worship Leaders
DESCRIPTION:A Songs of Praise service for Pentecost.
URL:https://www.trinitymethodistlowestoft.uk/church-event/sunday-morning-worship-led-by-worship-leaders-2/
LOCATION:Trinity Methodist Church
CATEGORIES:Sunday Services
END:VEVENT
BEGIN:VEVENT
DTSTART;TZID=Europe/London:20250615T104500
DTEND;TZID=Europe/London:20250615T114500
DTSTAMP:20260421T194120
CREATED:20250519T075032Z
LAST-MODIFIED:20250519T075032Z
UID:1996-1749984300-1749987900@www.trinitymethodistlowestoft.uk
SUMMARY:Sunday Morning Worship led by Worship Leaders
DESCRIPTION:
URL:https://www.trinitymethodistlowestoft.uk/church-event/sunday-morning-worship-led-by-worship-leaders-3/
LOCATION:Trinity Methodist Church
CATEGORIES:Sunday Services
END:VEVENT
BEGIN:VEVENT
DTSTART;TZID=Europe/London:20250622T104500
DTEND;TZID=Europe/London:20250622T114500
DTSTAMP:20260421T194120
CREATED:20250519T075253Z
LAST-MODIFIED:20250519T075700Z
UID:1998-1750589100-1750592700@www.trinitymethodistlowestoft.uk
SUMMARY:Sunday Morning Worship with Holy Communion led by Rev. R. Searles
DESCRIPTION:
URL:https://www.trinitymethodistlowestoft.uk/church-event/sunday-morning-worship-led-by-rev-r-searles-2/
LOCATION:Trinity Methodist Church
CATEGORIES:Sunday Services
END:VEVENT
BEGIN:VEVENT
DTSTART;TZID=Europe/London:20250629T104500
DTEND;TZID=Europe/London:20250629T114500
DTSTAMP:20260421T194120
CREATED:20250519T075430Z
LAST-MODIFIED:20250519T075430Z
UID:2001-1751193900-1751197500@www.trinitymethodistlowestoft.uk
SUMMARY:Sunday Morning Worship led by Rev. M. Keenan
DESCRIPTION:
URL:https://www.trinitymethodistlowestoft.uk/church-event/sunday-morning-worship-led-by-rev-m-keenan/
LOCATION:Trinity Methodist Church
CATEGORIES:Sunday Services
END:VEVENT
END:VCALENDAR