BEGIN:VCALENDAR
VERSION:2.0
PRODID:-//Trinity Methodist Church Lowestoft - ECPv6.15.20//NONSGML v1.0//EN
CALSCALE:GREGORIAN
METHOD:PUBLISH
X-ORIGINAL-URL:https://www.trinitymethodistlowestoft.uk
X-WR-CALDESC:Events for Trinity Methodist Church Lowestoft
REFRESH-INTERVAL;VALUE=DURATION:PT1H
X-Robots-Tag:noindex
X-PUBLISHED-TTL:PT1H
BEGIN:VTIMEZONE
TZID:Europe/London
BEGIN:DAYLIGHT
TZOFFSETFROM:+0000
TZOFFSETTO:+0100
TZNAME:BST
DTSTART:20240331T010000
END:DAYLIGHT
BEGIN:STANDARD
TZOFFSETFROM:+0100
TZOFFSETTO:+0000
TZNAME:GMT
DTSTART:20241027T010000
END:STANDARD
BEGIN:DAYLIGHT
TZOFFSETFROM:+0000
TZOFFSETTO:+0100
TZNAME:BST
DTSTART:20250330T010000
END:DAYLIGHT
BEGIN:STANDARD
TZOFFSETFROM:+0100
TZOFFSETTO:+0000
TZNAME:GMT
DTSTART:20251026T010000
END:STANDARD
BEGIN:DAYLIGHT
TZOFFSETFROM:+0000
TZOFFSETTO:+0100
TZNAME:BST
DTSTART:20260329T010000
END:DAYLIGHT
BEGIN:STANDARD
TZOFFSETFROM:+0100
TZOFFSETTO:+0000
TZNAME:GMT
DTSTART:20261025T010000
END:STANDARD
END:VTIMEZONE
BEGIN:VEVENT
DTSTART;TZID=Europe/London:20250504T104500
DTEND;TZID=Europe/London:20250504T114500
DTSTAMP:20260421T205251
CREATED:20250214T100840Z
LAST-MODIFIED:20250214T100840Z
UID:1908-1746355500-1746359100@www.trinitymethodistlowestoft.uk
SUMMARY:Sunday Morning Worship led by Worship Leaders
DESCRIPTION:
URL:https://www.trinitymethodistlowestoft.uk/church-event/sunday-morning-worship-led-by-worship-leaders/
LOCATION:Trinity Methodist Church
CATEGORIES:Sunday Services
END:VEVENT
BEGIN:VEVENT
DTSTART;TZID=Europe/London:20250511T104500
DTEND;TZID=Europe/London:20250511T114500
DTSTAMP:20260421T205251
CREATED:20250214T101007Z
LAST-MODIFIED:20250214T101007Z
UID:1910-1746960300-1746963900@www.trinitymethodistlowestoft.uk
SUMMARY:Sunday Morning Worship with Holy Communion led by Rev. M. Keenan
DESCRIPTION:
URL:https://www.trinitymethodistlowestoft.uk/church-event/sunday-morning-worship-with-holy-communion-led-by-rev-m-keenan/
LOCATION:Trinity Methodist Church
CATEGORIES:Sunday Services
END:VEVENT
BEGIN:VEVENT
DTSTART;TZID=Europe/London:20250518T104500
DTEND;TZID=Europe/London:20250518T114500
DTSTAMP:20260421T205251
CREATED:20250214T101126Z
LAST-MODIFIED:20250214T101126Z
UID:1912-1747565100-1747568700@www.trinitymethodistlowestoft.uk
SUMMARY:Sunday Morning Worship led by Mrs. S. Groome
DESCRIPTION:
URL:https://www.trinitymethodistlowestoft.uk/church-event/sunday-morning-worship-led-by-mrs-s-groome/
LOCATION:Trinity Methodist Church
CATEGORIES:Sunday Services
END:VEVENT
BEGIN:VEVENT
DTSTART;TZID=Europe/London:20250525T104500
DTEND;TZID=Europe/London:20250525T114500
DTSTAMP:20260421T205251
CREATED:20250214T101237Z
LAST-MODIFIED:20250214T101237Z
UID:1914-1748169900-1748173500@www.trinitymethodistlowestoft.uk
SUMMARY:Sunday Morning Worship led by Miss T. Waller
DESCRIPTION:
URL:https://www.trinitymethodistlowestoft.uk/church-event/sunday-morning-worship-led-by-miss-t-waller/
LOCATION:Trinity Methodist Church
CATEGORIES:Sunday Services
END:VEVENT
END:VCALENDAR