BEGIN:VCALENDAR
VERSION:2.0
PRODID:-//Trinity Methodist Church Lowestoft - ECPv6.15.20//NONSGML v1.0//EN
CALSCALE:GREGORIAN
METHOD:PUBLISH
X-ORIGINAL-URL:https://www.trinitymethodistlowestoft.uk
X-WR-CALDESC:Events for Trinity Methodist Church Lowestoft
REFRESH-INTERVAL;VALUE=DURATION:PT1H
X-Robots-Tag:noindex
X-PUBLISHED-TTL:PT1H
BEGIN:VTIMEZONE
TZID:Europe/London
BEGIN:DAYLIGHT
TZOFFSETFROM:+0000
TZOFFSETTO:+0100
TZNAME:BST
DTSTART:20240331T010000
END:DAYLIGHT
BEGIN:STANDARD
TZOFFSETFROM:+0100
TZOFFSETTO:+0000
TZNAME:GMT
DTSTART:20241027T010000
END:STANDARD
BEGIN:DAYLIGHT
TZOFFSETFROM:+0000
TZOFFSETTO:+0100
TZNAME:BST
DTSTART:20250330T010000
END:DAYLIGHT
BEGIN:STANDARD
TZOFFSETFROM:+0100
TZOFFSETTO:+0000
TZNAME:GMT
DTSTART:20251026T010000
END:STANDARD
BEGIN:DAYLIGHT
TZOFFSETFROM:+0000
TZOFFSETTO:+0100
TZNAME:BST
DTSTART:20260329T010000
END:DAYLIGHT
BEGIN:STANDARD
TZOFFSETFROM:+0100
TZOFFSETTO:+0000
TZNAME:GMT
DTSTART:20261025T010000
END:STANDARD
END:VTIMEZONE
BEGIN:VEVENT
DTSTART;TZID=Europe/London:20250406T104500
DTEND;TZID=Europe/London:20250406T114500
DTSTAMP:20260421T220228
CREATED:20250213T133518Z
LAST-MODIFIED:20250213T133518Z
UID:1845-1743936300-1743939900@www.trinitymethodistlowestoft.uk
SUMMARY:Sunday Morning Worship led by Ms. D. Miller
DESCRIPTION:
URL:https://www.trinitymethodistlowestoft.uk/church-event/sunday-morning-worship-led-by-ms-d-miller/
LOCATION:Trinity Methodist Church
CATEGORIES:Sunday Services
END:VEVENT
BEGIN:VEVENT
DTSTART;TZID=Europe/London:20250413T104500
DTEND;TZID=Europe/London:20250413T114500
DTSTAMP:20260421T220228
CREATED:20250213T133944Z
LAST-MODIFIED:20250213T134358Z
UID:1850-1744541100-1744544700@www.trinitymethodistlowestoft.uk
SUMMARY:Palm Sunday Morning Worship led by Rev. R. Searles
DESCRIPTION:
URL:https://www.trinitymethodistlowestoft.uk/church-event/sunday-morning-worship-led-by-rev-r-searles/
LOCATION:Trinity Methodist Church
CATEGORIES:Sunday Services
END:VEVENT
BEGIN:VEVENT
DTSTART;TZID=Europe/London:20250420T104500
DTEND;TZID=Europe/London:20250420T114500
DTSTAMP:20260421T220228
CREATED:20250213T134153Z
LAST-MODIFIED:20250213T134153Z
UID:1852-1745145900-1745149500@www.trinitymethodistlowestoft.uk
SUMMARY:Easter Sunday Morning Worship with Holy Communion led by Rev. M. Keenan
DESCRIPTION:
URL:https://www.trinitymethodistlowestoft.uk/church-event/easter-sunday-morning-worship-with-holy-communion-led-by-rev-m-keenan/
LOCATION:Trinity Methodist Church
CATEGORIES:Sunday Services
END:VEVENT
BEGIN:VEVENT
DTSTART;TZID=Europe/London:20250427T104500
DTEND;TZID=Europe/London:20250427T114500
DTSTAMP:20260421T220228
CREATED:20250213T134317Z
LAST-MODIFIED:20250213T134317Z
UID:1854-1745750700-1745754300@www.trinitymethodistlowestoft.uk
SUMMARY:Sunday Morning Worship led by Rev. L. Richards
DESCRIPTION:
URL:https://www.trinitymethodistlowestoft.uk/church-event/sunday-morning-worship-led-by-rev-l-richards/
LOCATION:Trinity Methodist Church
CATEGORIES:Sunday Services
END:VEVENT
END:VCALENDAR