BEGIN:VCALENDAR
VERSION:2.0
PRODID:-//Trinity Methodist Church Lowestoft - ECPv6.15.20//NONSGML v1.0//EN
CALSCALE:GREGORIAN
METHOD:PUBLISH
X-ORIGINAL-URL:https://www.trinitymethodistlowestoft.uk
X-WR-CALDESC:Events for Trinity Methodist Church Lowestoft
REFRESH-INTERVAL;VALUE=DURATION:PT1H
X-Robots-Tag:noindex
X-PUBLISHED-TTL:PT1H
BEGIN:VTIMEZONE
TZID:Europe/London
BEGIN:DAYLIGHT
TZOFFSETFROM:+0000
TZOFFSETTO:+0100
TZNAME:BST
DTSTART:20240331T010000
END:DAYLIGHT
BEGIN:STANDARD
TZOFFSETFROM:+0100
TZOFFSETTO:+0000
TZNAME:GMT
DTSTART:20241027T010000
END:STANDARD
BEGIN:DAYLIGHT
TZOFFSETFROM:+0000
TZOFFSETTO:+0100
TZNAME:BST
DTSTART:20250330T010000
END:DAYLIGHT
BEGIN:STANDARD
TZOFFSETFROM:+0100
TZOFFSETTO:+0000
TZNAME:GMT
DTSTART:20251026T010000
END:STANDARD
BEGIN:DAYLIGHT
TZOFFSETFROM:+0000
TZOFFSETTO:+0100
TZNAME:BST
DTSTART:20260329T010000
END:DAYLIGHT
BEGIN:STANDARD
TZOFFSETFROM:+0100
TZOFFSETTO:+0000
TZNAME:GMT
DTSTART:20261025T010000
END:STANDARD
END:VTIMEZONE
BEGIN:VEVENT
DTSTART;TZID=Europe/London:20250302T104500
DTEND;TZID=Europe/London:20250302T114500
DTSTAMP:20260421T231437
CREATED:20250213T121916Z
LAST-MODIFIED:20250213T133623Z
UID:1812-1740912300-1740915900@www.trinitymethodistlowestoft.uk
SUMMARY:Sunday Morning Worship led by Mrs. S. Groome
DESCRIPTION:
URL:https://www.trinitymethodistlowestoft.uk/church-event/worship/
LOCATION:Trinity Methodist Church
CATEGORIES:Sunday Services
END:VEVENT
BEGIN:VEVENT
DTSTART;TZID=Europe/London:20250309T104500
DTEND;TZID=Europe/London:20250309T114500
DTSTAMP:20260421T231437
CREATED:20250213T125526Z
LAST-MODIFIED:20250213T133704Z
UID:1815-1741517100-1741520700@www.trinitymethodistlowestoft.uk
SUMMARY:Sunday Morning Worship led by Mrs. L. Lawrance-Martin
DESCRIPTION:
URL:https://www.trinitymethodistlowestoft.uk/church-event/sunday-morning-worship-with-mrs-l-lawrance-martin/
LOCATION:Trinity Methodist Church
CATEGORIES:Sunday Services
END:VEVENT
BEGIN:VEVENT
DTSTART;TZID=Europe/London:20250316T104500
DTEND;TZID=Europe/London:20250316T114500
DTSTAMP:20260421T231437
CREATED:20250213T125901Z
LAST-MODIFIED:20250213T141710Z
UID:1818-1742121900-1742125500@www.trinitymethodistlowestoft.uk
SUMMARY:Sunday Morning Worship led by Rev. P. Bayliss
DESCRIPTION:
URL:https://www.trinitymethodistlowestoft.uk/church-event/sunday-morning-worship-with-rev-p-bayliss/
LOCATION:Trinity Methodist Church
CATEGORIES:Sunday Services
END:VEVENT
BEGIN:VEVENT
DTSTART;TZID=Europe/London:20250323T104500
DTEND;TZID=Europe/London:20250323T114500
DTSTAMP:20260421T231437
CREATED:20250213T130131Z
LAST-MODIFIED:20250213T141802Z
UID:1820-1742726700-1742730300@www.trinitymethodistlowestoft.uk
SUMMARY:Sunday Morning Worship with Holy Communion led by Rev. L. Richards
DESCRIPTION:
URL:https://www.trinitymethodistlowestoft.uk/church-event/sunday-morning-worship-with-holy-communion-led-by-rev-l-richards/
LOCATION:Trinity Methodist Church
CATEGORIES:Sunday Services
END:VEVENT
BEGIN:VEVENT
DTSTART;TZID=Europe/London:20250330T104500
DTEND;TZID=Europe/London:20250330T114500
DTSTAMP:20260421T231437
CREATED:20250213T130506Z
LAST-MODIFIED:20250213T141258Z
UID:1822-1743331500-1743335100@www.trinitymethodistlowestoft.uk
SUMMARY:Sunday Coffee Morning Style Worship for Mothering Sunday led by Worship Leaders
DESCRIPTION:
URL:https://www.trinitymethodistlowestoft.uk/church-event/sunday-morning-worship-for-mothering-sunday-led-by-worship-leaders/
LOCATION:Trinity Methodist Church
CATEGORIES:Sunday Services
END:VEVENT
END:VCALENDAR