BEGIN:VCALENDAR
VERSION:2.0
PRODID:-//Trinity Methodist Church Lowestoft - ECPv6.15.20//NONSGML v1.0//EN
CALSCALE:GREGORIAN
METHOD:PUBLISH
X-WR-CALNAME:Trinity Methodist Church Lowestoft
X-ORIGINAL-URL:https://www.trinitymethodistlowestoft.uk
X-WR-CALDESC:Events for Trinity Methodist Church Lowestoft
REFRESH-INTERVAL;VALUE=DURATION:PT1H
X-Robots-Tag:noindex
X-PUBLISHED-TTL:PT1H
BEGIN:VTIMEZONE
TZID:Europe/London
BEGIN:DAYLIGHT
TZOFFSETFROM:+0000
TZOFFSETTO:+0100
TZNAME:BST
DTSTART:20240331T010000
END:DAYLIGHT
BEGIN:STANDARD
TZOFFSETFROM:+0100
TZOFFSETTO:+0000
TZNAME:GMT
DTSTART:20241027T010000
END:STANDARD
BEGIN:DAYLIGHT
TZOFFSETFROM:+0000
TZOFFSETTO:+0100
TZNAME:BST
DTSTART:20250330T010000
END:DAYLIGHT
BEGIN:STANDARD
TZOFFSETFROM:+0100
TZOFFSETTO:+0000
TZNAME:GMT
DTSTART:20251026T010000
END:STANDARD
BEGIN:DAYLIGHT
TZOFFSETFROM:+0000
TZOFFSETTO:+0100
TZNAME:BST
DTSTART:20260329T010000
END:DAYLIGHT
BEGIN:STANDARD
TZOFFSETFROM:+0100
TZOFFSETTO:+0000
TZNAME:GMT
DTSTART:20261025T010000
END:STANDARD
END:VTIMEZONE
BEGIN:VEVENT
DTSTART;TZID=Europe/London:20250202T104500
DTEND;TZID=Europe/London:20250202T114500
DTSTAMP:20260422T002823
CREATED:20241217T104806Z
LAST-MODIFIED:20241217T104806Z
UID:1800-1738493100-1738496700@www.trinitymethodistlowestoft.uk
SUMMARY:Sunday Morning Worship
DESCRIPTION:Sunday Morning Worship at Trinity led by Worship Leaders
URL:https://www.trinitymethodistlowestoft.uk/church-event/sunday-morning-worship-14/
LOCATION:Trinity Methodist Church
CATEGORIES:Sunday Services
END:VEVENT
BEGIN:VEVENT
DTSTART;TZID=Europe/London:20250209T104500
DTEND;TZID=Europe/London:20250209T170000
DTSTAMP:20260422T002823
CREATED:20241217T105446Z
LAST-MODIFIED:20241217T105446Z
UID:1802-1739097900-1739120400@www.trinitymethodistlowestoft.uk
SUMMARY:Sunday Morning Worship
DESCRIPTION:Sunday Morning Worship and Communion at Trinity with Rev. R. Searles
URL:https://www.trinitymethodistlowestoft.uk/church-event/sunday-morning-worship-15/
LOCATION:Trinity Methodist Church
CATEGORIES:Sunday Services
END:VEVENT
BEGIN:VEVENT
DTSTART;TZID=Europe/London:20250216T104500
DTEND;TZID=Europe/London:20250216T114500
DTSTAMP:20260422T002823
CREATED:20241217T105641Z
LAST-MODIFIED:20241217T105641Z
UID:1804-1739702700-1739706300@www.trinitymethodistlowestoft.uk
SUMMARY:Sunday Morning Worship
DESCRIPTION:Sunday Morning Worship at Trinity with Rev. M. Keenan
URL:https://www.trinitymethodistlowestoft.uk/church-event/sunday-morning-worship-16/
LOCATION:Trinity Methodist Church
CATEGORIES:Sunday Services
END:VEVENT
BEGIN:VEVENT
DTSTART;TZID=Europe/London:20250223T104500
DTEND;TZID=Europe/London:20250223T114500
DTSTAMP:20260422T002823
CREATED:20241217T105816Z
LAST-MODIFIED:20241217T105816Z
UID:1806-1740307500-1740311100@www.trinitymethodistlowestoft.uk
SUMMARY:Sunday Morning Worship
DESCRIPTION:Sunday Morning Worship at Trinity with Ms. D. Miller
URL:https://www.trinitymethodistlowestoft.uk/church-event/sunday-morning-worship-17/
LOCATION:Trinity Methodist Church
CATEGORIES:Sunday Services
END:VEVENT
END:VCALENDAR