BEGIN:VCALENDAR
VERSION:2.0
PRODID:-//Trinity Methodist Church Lowestoft - ECPv6.15.20//NONSGML v1.0//EN
CALSCALE:GREGORIAN
METHOD:PUBLISH
X-WR-CALNAME:Trinity Methodist Church Lowestoft
X-ORIGINAL-URL:https://www.trinitymethodistlowestoft.uk
X-WR-CALDESC:Events for Trinity Methodist Church Lowestoft
REFRESH-INTERVAL;VALUE=DURATION:PT1H
X-Robots-Tag:noindex
X-PUBLISHED-TTL:PT1H
BEGIN:VTIMEZONE
TZID:Europe/London
BEGIN:DAYLIGHT
TZOFFSETFROM:+0000
TZOFFSETTO:+0100
TZNAME:BST
DTSTART:20230326T010000
END:DAYLIGHT
BEGIN:STANDARD
TZOFFSETFROM:+0100
TZOFFSETTO:+0000
TZNAME:GMT
DTSTART:20231029T010000
END:STANDARD
BEGIN:DAYLIGHT
TZOFFSETFROM:+0000
TZOFFSETTO:+0100
TZNAME:BST
DTSTART:20240331T010000
END:DAYLIGHT
BEGIN:STANDARD
TZOFFSETFROM:+0100
TZOFFSETTO:+0000
TZNAME:GMT
DTSTART:20241027T010000
END:STANDARD
BEGIN:DAYLIGHT
TZOFFSETFROM:+0000
TZOFFSETTO:+0100
TZNAME:BST
DTSTART:20250330T010000
END:DAYLIGHT
BEGIN:STANDARD
TZOFFSETFROM:+0100
TZOFFSETTO:+0000
TZNAME:GMT
DTSTART:20251026T010000
END:STANDARD
END:VTIMEZONE
BEGIN:VEVENT
DTSTART;TZID=Europe/London:20241201T104500
DTEND;TZID=Europe/London:20241201T114500
DTSTAMP:20260422T030015
CREATED:20241121T200009Z
LAST-MODIFIED:20241121T201124Z
UID:1761-1733049900-1733053500@www.trinitymethodistlowestoft.uk
SUMMARY:Sunday Morning Worship
DESCRIPTION:Sunday Coffee Morning Style Worship at Trinity for Advent Sunday (Worship Leaders)
URL:https://www.trinitymethodistlowestoft.uk/church-event/sunday-morning-worship-6/
LOCATION:Trinity Methodist Church
CATEGORIES:Sunday Services
END:VEVENT
BEGIN:VEVENT
DTSTART;TZID=Europe/London:20241208T104500
DTEND;TZID=Europe/London:20241208T114500
DTSTAMP:20260422T030015
CREATED:20241121T200903Z
LAST-MODIFIED:20241121T204636Z
UID:1765-1733654700-1733658300@www.trinitymethodistlowestoft.uk
SUMMARY:Sunday Morning Worship
DESCRIPTION:Sunday Morning Worship with Holy Communion for the 2nd Sunday in Advent at Trinity (Rev. L. Richards)
URL:https://www.trinitymethodistlowestoft.uk/church-event/sunday-morning-worship-7/
LOCATION:Trinity Methodist Church
CATEGORIES:Sunday Services
END:VEVENT
BEGIN:VEVENT
DTSTART;TZID=Europe/London:20241215T104500
DTEND;TZID=Europe/London:20241215T114500
DTSTAMP:20260422T030015
CREATED:20241121T201350Z
LAST-MODIFIED:20241121T201350Z
UID:1769-1734259500-1734263100@www.trinitymethodistlowestoft.uk
SUMMARY:Sunday Morning Worship
DESCRIPTION:Sunday Morning Worship for the 3rd Sunday in Advent (Rev. R. Soanes)
URL:https://www.trinitymethodistlowestoft.uk/church-event/sunday-morning-worship-8/
LOCATION:Trinity Methodist Church
CATEGORIES:Sunday Services
END:VEVENT
BEGIN:VEVENT
DTSTART;TZID=Europe/London:20241229T104500
DTEND;TZID=Europe/London:20241229T114500
DTSTAMP:20260422T030015
CREATED:20241121T203510Z
LAST-MODIFIED:20241121T203510Z
UID:1779-1735469100-1735472700@www.trinitymethodistlowestoft.uk
SUMMARY:Sunday Morning Worship
DESCRIPTION:Sunday Morning Worship (Mrs. S. Groome)
URL:https://www.trinitymethodistlowestoft.uk/church-event/sunday-morning-worship-10/
LOCATION:Trinity Methodist Church
CATEGORIES:Sunday Services
END:VEVENT
END:VCALENDAR